BEGIN:VCALENDAR
VERSION:2.0
PRODID:-//Quemando  Salsa - ECPv6.15.20//NONSGML v1.0//EN
CALSCALE:GREGORIAN
METHOD:PUBLISH
X-WR-CALNAME:Quemando  Salsa
X-ORIGINAL-URL:https://quemandosalsa.com
X-WR-CALDESC:Events for Quemando  Salsa
REFRESH-INTERVAL;VALUE=DURATION:PT1H
X-Robots-Tag:noindex
X-PUBLISHED-TTL:PT1H
BEGIN:VTIMEZONE
TZID:America/Denver
BEGIN:DAYLIGHT
TZOFFSETFROM:-0700
TZOFFSETTO:-0600
TZNAME:MDT
DTSTART:20180311T090000
END:DAYLIGHT
BEGIN:STANDARD
TZOFFSETFROM:-0600
TZOFFSETTO:-0700
TZNAME:MST
DTSTART:20181104T080000
END:STANDARD
BEGIN:DAYLIGHT
TZOFFSETFROM:-0700
TZOFFSETTO:-0600
TZNAME:MDT
DTSTART:20190310T090000
END:DAYLIGHT
BEGIN:STANDARD
TZOFFSETFROM:-0600
TZOFFSETTO:-0700
TZNAME:MST
DTSTART:20191103T080000
END:STANDARD
BEGIN:DAYLIGHT
TZOFFSETFROM:-0700
TZOFFSETTO:-0600
TZNAME:MDT
DTSTART:20200308T090000
END:DAYLIGHT
BEGIN:STANDARD
TZOFFSETFROM:-0600
TZOFFSETTO:-0700
TZNAME:MST
DTSTART:20201101T080000
END:STANDARD
BEGIN:DAYLIGHT
TZOFFSETFROM:-0700
TZOFFSETTO:-0600
TZNAME:MDT
DTSTART:20210314T090000
END:DAYLIGHT
BEGIN:STANDARD
TZOFFSETFROM:-0600
TZOFFSETTO:-0700
TZNAME:MST
DTSTART:20211107T080000
END:STANDARD
BEGIN:DAYLIGHT
TZOFFSETFROM:-0700
TZOFFSETTO:-0600
TZNAME:MDT
DTSTART:20220313T090000
END:DAYLIGHT
BEGIN:STANDARD
TZOFFSETFROM:-0600
TZOFFSETTO:-0700
TZNAME:MST
DTSTART:20221106T080000
END:STANDARD
END:VTIMEZONE
BEGIN:VTIMEZONE
TZID:UTC
BEGIN:STANDARD
TZOFFSETFROM:+0000
TZOFFSETTO:+0000
TZNAME:UTC
DTSTART:20190101T000000
END:STANDARD
END:VTIMEZONE
BEGIN:VTIMEZONE
TZID:America/Chicago
BEGIN:DAYLIGHT
TZOFFSETFROM:-0600
TZOFFSETTO:-0500
TZNAME:CDT
DTSTART:20180311T080000
END:DAYLIGHT
BEGIN:STANDARD
TZOFFSETFROM:-0500
TZOFFSETTO:-0600
TZNAME:CST
DTSTART:20181104T070000
END:STANDARD
BEGIN:DAYLIGHT
TZOFFSETFROM:-0600
TZOFFSETTO:-0500
TZNAME:CDT
DTSTART:20190310T080000
END:DAYLIGHT
BEGIN:STANDARD
TZOFFSETFROM:-0500
TZOFFSETTO:-0600
TZNAME:CST
DTSTART:20191103T070000
END:STANDARD
BEGIN:DAYLIGHT
TZOFFSETFROM:-0600
TZOFFSETTO:-0500
TZNAME:CDT
DTSTART:20200308T080000
END:DAYLIGHT
BEGIN:STANDARD
TZOFFSETFROM:-0500
TZOFFSETTO:-0600
TZNAME:CST
DTSTART:20201101T070000
END:STANDARD
END:VTIMEZONE
BEGIN:VEVENT
DTSTART;TZID=America/Denver:20210811T190000
DTEND;TZID=America/Denver:20210811T210000
DTSTAMP:20260420T041420
CREATED:20210410T035809Z
LAST-MODIFIED:20210410T035821Z
UID:456-1628708400-1628715600@quemandosalsa.com
SUMMARY:Quemando at Bands on the Bricks Summer Series
DESCRIPTION:The now famous Bands on the Bricks downtown Boulder is a Summer attraction. \nRight in front of the Old Court House \nDon’t miss this FREE show
URL:https://quemandosalsa.com/show/quemando-at-bands-on-the-bricks-summer-series/
LOCATION:Downtown Boulder (Pearl Street Mall)\, 13th-14th Pearl Street\, Boulder\, CO\, 80301\, United States
CATEGORIES:Shows
ATTACH;FMTTYPE=image/jpeg:https://quemandosalsa.com/wp-content/uploads/2021/04/QuemandoSalsaBand.jpg
END:VEVENT
BEGIN:VEVENT
DTSTART;TZID=America/Denver:20210808T180000
DTEND;TZID=America/Denver:20210808T200000
DTSTAMP:20260420T041420
CREATED:20210810T194833Z
LAST-MODIFIED:20210810T194833Z
UID:480-1628445600-1628452800@quemandosalsa.com
SUMMARY:Quemando headline Vail Jazz Festival
DESCRIPTION:Quemando got to headline in this World renown series of Vail Jazz Festival. Check out the pictures in our gallery to see what happened there. \nIt was a blast\, see you there again next year !
URL:https://quemandosalsa.com/show/quemando-headline-vail-jazz-festival/
LOCATION:Solaris Plaza in Vail Village\, Vail\, CO\, United States
END:VEVENT
BEGIN:VEVENT
DTSTART;TZID=America/Denver:20210730T183000
DTEND;TZID=America/Denver:20210730T213000
DTSTAMP:20260420T041420
CREATED:20210515T174806Z
LAST-MODIFIED:20210515T174819Z
UID:465-1627669800-1627680600@quemandosalsa.com
SUMMARY:We are back: Quemando at St Julien Hotel
DESCRIPTION:After more than a year of the pandemic restrictions\, we are thrilled to be back at bringing you the best live music\, the best salsa to dance to and invite your family and friends to. \nGo ahead\, get your shoes and outfits ready. \nSee at St. Julien Hotel in Boulder. We have many more other dates too you can check out on our website: \nQuemandoSalsa.com
URL:https://quemandosalsa.com/show/quemando-at-st-julien-hotel-boulder/
LOCATION:The St. Julien Hotel\, 920 Walnut St\, Boulder\, CO\, 80302\, United States
END:VEVENT
BEGIN:VEVENT
DTSTART;TZID=America/Denver:20210703T140000
DTEND;TZID=America/Denver:20210703T160000
DTSTAMP:20260420T041420
CREATED:20210603T234350Z
LAST-MODIFIED:20210603T234350Z
UID:470-1625320800-1625328000@quemandosalsa.com
SUMMARY:Quemando @ Lefthand Brewing
DESCRIPTION:This fun event will be part of the long weekend and you can’t miss it. \nLefthand facilities are always undergoing renovation and improvement. \nOH\, did we mention the beer yet ? \nCan’t wait to see you all
URL:https://quemandosalsa.com/show/quemando-lefthand-brewing/
LOCATION:Lefthand Brewing\, 1265 Boston Ave\, Longmont\, CO\, 80501\, United States
CATEGORIES:Shows
END:VEVENT
BEGIN:VEVENT
DTSTART;TZID=America/Denver:20210523T170000
DTEND;TZID=America/Denver:20210523T190000
DTSTAMP:20260420T041420
CREATED:20210515T175049Z
LAST-MODIFIED:20210515T201149Z
UID:467-1621789200-1621796400@quemandosalsa.com
SUMMARY:Private Party (Greeley area)
DESCRIPTION:This is a private party. ONLY the invitees can attend
URL:https://quemandosalsa.com/show/private-party-greeley-area/
LOCATION:Private\, Greeley
END:VEVENT
BEGIN:VEVENT
DTSTART;TZID=UTC:20200711T190000
DTEND;TZID=UTC:20200711T220000
DTSTAMP:20260420T041420
CREATED:20200711T190000Z
LAST-MODIFIED:20210101T053953Z
UID:379-1594494000-1594504800@quemandosalsa.com
SUMMARY:Grande River Vineyards(Palisade)
DESCRIPTION:
URL:https://quemandosalsa.com/show/grande-river-vineyardspalisade/
LOCATION:Grand River Vineyards\, Palisade\, CO\, United States
END:VEVENT
BEGIN:VEVENT
DTSTART;TZID=America/Denver:20200711T190000
DTEND;TZID=America/Denver:20200711T220000
DTSTAMP:20260420T041420
CREATED:20200711T190000Z
LAST-MODIFIED:20210101T053953Z
UID:405-1594494000-1594504800@quemandosalsa.com
SUMMARY:Quemando LIVE @ Grande River Vineyards (Palisade)
DESCRIPTION:
URL:https://quemandosalsa.com/show/quemando-live-grande-river-vineyards-palisade/
LOCATION:Grand River Vineyards\, Palisade\, CO\, United States
END:VEVENT
BEGIN:VEVENT
DTSTART;TZID=America/Denver:20200606T210000
DTEND;TZID=America/Denver:20200607T210000
DTSTAMP:20260420T041420
CREATED:20200606T210000Z
LAST-MODIFIED:20210101T053953Z
UID:397-1591477200-1591563600@quemandosalsa.com
SUMMARY:Quemando LIVE @ La Rumba (Denver)
DESCRIPTION:
URL:https://quemandosalsa.com/show/quemando-live-la-rumba-denver-5/
LOCATION:La Rumba\, 99 W 9th Ave\, Denver\, CO\, 80204\, United States
END:VEVENT
BEGIN:VEVENT
DTSTART;TZID=America/Denver:20200530T200000
DTEND;TZID=America/Denver:20200530T235900
DTSTAMP:20260420T041420
CREATED:20200530T200000Z
LAST-MODIFIED:20210101T053953Z
UID:417-1590868800-1590883140@quemandosalsa.com
SUMMARY:Quemando LIVE @ Avo's (Fort Collins)
DESCRIPTION:  \n 
URL:https://quemandosalsa.com/show/quemando-live-avos-fort-collins-2/
LOCATION:Avogadro’s Number\, 605 S Mason Street\, Fort Collins\, CO\, 80524\, United States
END:VEVENT
BEGIN:VEVENT
DTSTART;TZID=America/Denver:20200523T210000
DTEND;TZID=America/Denver:20200523T235900
DTSTAMP:20260420T041420
CREATED:20200523T210000Z
LAST-MODIFIED:20210101T053954Z
UID:403-1590267600-1590278340@quemandosalsa.com
SUMMARY:Quemando LIVE @ Private Event(Denver)
DESCRIPTION:
URL:https://quemandosalsa.com/show/quemando-live-private-eventdenver/
LOCATION:Private\, Greeley
CATEGORIES:Shows
END:VEVENT
BEGIN:VEVENT
DTSTART;TZID=UTC:20200523T200000
DTEND;TZID=UTC:20200523T233000
DTSTAMP:20260420T041420
CREATED:20200523T200000Z
LAST-MODIFIED:20210101T053954Z
UID:346-1590264000-1590276600@quemandosalsa.com
SUMMARY:Private Party (Denver)
DESCRIPTION:
URL:https://quemandosalsa.com/show/private-party-denver/
LOCATION:Private\, Greeley
END:VEVENT
BEGIN:VEVENT
DTSTART;TZID=UTC:20200523T080000
DTEND;TZID=UTC:20200523T170000
DTSTAMP:20260420T041420
CREATED:20200523T080000Z
LAST-MODIFIED:20210101T053954Z
UID:381-1590220800-1590253200@quemandosalsa.com
SUMMARY:Private Party (Denver)
DESCRIPTION:
URL:https://quemandosalsa.com/show/private-party-denver-2/
LOCATION:Private\, Greeley
END:VEVENT
BEGIN:VEVENT
DTSTART;TZID=America/Denver:20200515T200000
DTEND;TZID=America/Denver:20200515T230000
DTSTAMP:20260420T041420
CREATED:20200515T200000Z
LAST-MODIFIED:20210101T053954Z
UID:420-1589572800-1589583600@quemandosalsa.com
SUMMARY:Mercury Café
DESCRIPTION:Special Guests : Azucartones
URL:https://quemandosalsa.com/show/mercury-cafe/
LOCATION:Mercury Cafe\, 2199 California St #2821\, Denver\, CO\, 80205\, United States
END:VEVENT
BEGIN:VEVENT
DTSTART;TZID=America/Denver:20200502T183000
DTEND;TZID=America/Denver:20200502T200000
DTSTAMP:20260420T041420
CREATED:20200502T183000Z
LAST-MODIFIED:20210101T053954Z
UID:426-1588444200-1588449600@quemandosalsa.com
SUMMARY:Cinco De Mayo (Denver)
DESCRIPTION:co
URL:https://quemandosalsa.com/show/cinco-de-mayo-denver/
LOCATION:Denver Civic center\, Denver\, CO\, United States
END:VEVENT
BEGIN:VEVENT
DTSTART;TZID=America/Denver:20200425T210000
DTEND;TZID=America/Denver:20200426T210000
DTSTAMP:20260420T041420
CREATED:20200425T210000Z
LAST-MODIFIED:20210101T053954Z
UID:395-1587848400-1587934800@quemandosalsa.com
SUMMARY:Quemando LIVE @ La Rumba (Denver)
DESCRIPTION:
URL:https://quemandosalsa.com/show/quemando-live-la-rumba-denver-4/
LOCATION:La Rumba\, 99 W 9th Ave\, Denver\, CO\, 80204\, United States
END:VEVENT
BEGIN:VEVENT
DTSTART;TZID=UTC:20200403T210000
DTEND;TZID=UTC:20200403T235900
DTSTAMP:20260420T041420
CREATED:20200403T210000Z
LAST-MODIFIED:20210101T053954Z
UID:377-1585947600-1585958340@quemandosalsa.com
SUMMARY:Oskar Blues (Lyons)
DESCRIPTION:
URL:https://quemandosalsa.com/show/oskar-blues-lyons/
LOCATION:Oskar Blues\, 303 Main St\, Lyons\, CO\, 80504\, United States
END:VEVENT
BEGIN:VEVENT
DTSTART;TZID=America/Denver:20200403T203000
DTEND;TZID=America/Denver:20200403T235900
DTSTAMP:20260420T041420
CREATED:20200403T203000Z
LAST-MODIFIED:20210101T053954Z
UID:401-1585945800-1585958340@quemandosalsa.com
SUMMARY:Quemando LIVE @ Oskar Blues(Lyons)
DESCRIPTION:
URL:https://quemandosalsa.com/show/quemando-live-oskar-blueslyons/
LOCATION:Oskar Blues\, 303 Main St\, Lyons\, CO\, 80504\, United States
CATEGORIES:Shows
END:VEVENT
BEGIN:VEVENT
DTSTART;TZID=America/Denver:20200328T200000
DTEND;TZID=America/Denver:20200328T235900
DTSTAMP:20260420T041420
CREATED:20200328T200000Z
LAST-MODIFIED:20210101T053954Z
UID:399-1585425600-1585439940@quemandosalsa.com
SUMMARY:Quemando LIVE @ Avo's (Fort Collins)
DESCRIPTION:
URL:https://quemandosalsa.com/show/quemando-live-avos-fort-collins/
LOCATION:Avogadro’s Number\, 605 S Mason Street\, Fort Collins\, CO\, 80524\, United States
CATEGORIES:Shows
END:VEVENT
BEGIN:VEVENT
DTSTART;TZID=America/Denver:20200307T210000
DTEND;TZID=America/Denver:20200308T010000
DTSTAMP:20260420T041420
CREATED:20200307T210000Z
LAST-MODIFIED:20210101T053954Z
UID:393-1583614800-1583629200@quemandosalsa.com
SUMMARY:Quemando LIVE @ La Rumba (Denver)
DESCRIPTION:
URL:https://quemandosalsa.com/show/quemando-live-la-rumba-denver-3/
LOCATION:La Rumba\, 99 W 9th Ave\, Denver\, CO\, 80204\, United States
CATEGORIES:Shows
END:VEVENT
BEGIN:VEVENT
DTSTART;TZID=America/Denver:20200214T183000
DTEND;TZID=America/Denver:20200214T213000
DTSTAMP:20260420T041420
CREATED:20200214T183000Z
LAST-MODIFIED:20210101T053954Z
UID:415-1581705000-1581715800@quemandosalsa.com
SUMMARY:Quemando Live
DESCRIPTION:
URL:https://quemandosalsa.com/show/quemando-live/
LOCATION:The St. Julien Hotel\, 920 Walnut St\, Boulder\, CO\, 80302\, United States
END:VEVENT
BEGIN:VEVENT
DTSTART;TZID=UTC:20200118T170000
DTEND;TZID=UTC:20200118T200000
DTSTAMP:20260420T041420
CREATED:20200118T170000Z
LAST-MODIFIED:20210101T053954Z
UID:374-1579366800-1579377600@quemandosalsa.com
SUMMARY:Quemando Live at Jack's (16th Mall - Denver)
DESCRIPTION:
URL:https://quemandosalsa.com/show/live-at-jacks/
LOCATION:Live @Jack’s\, 500 16th St Mall #320\, Denver\, CO\, 80202\, United States
END:VEVENT
BEGIN:VEVENT
DTSTART;TZID=America/Denver:20200114T203000
DTEND;TZID=America/Denver:20200114T223000
DTSTAMP:20260420T041420
CREATED:20200114T203000Z
LAST-MODIFIED:20210101T053954Z
UID:408-1579033800-1579041000@quemandosalsa.com
SUMMARY:Quemando Live at Agave Room (Fort Collins)
DESCRIPTION:
URL:https://quemandosalsa.com/show/quemando-live-at-agave-room-fort-collins/
LOCATION:Agave Room (Above Rio Grande)\, 149 W Mountain Ave\, Fort Collins\, CO\, 80524\, United States
END:VEVENT
BEGIN:VEVENT
DTSTART;TZID=America/Denver:20200104T210000
DTEND;TZID=America/Denver:20200105T210000
DTSTAMP:20260420T041420
CREATED:20200104T210000Z
LAST-MODIFIED:20210101T053954Z
UID:391-1578171600-1578258000@quemandosalsa.com
SUMMARY:Quemando LIVE @ La Rumba (Denver)
DESCRIPTION:
URL:https://quemandosalsa.com/show/quemando-live-la-rumba-denver-2/
LOCATION:La Rumba\, 99 W 9th Ave\, Denver\, CO\, 80204\, United States
CATEGORIES:Shows
END:VEVENT
BEGIN:VEVENT
DTSTART;TZID=America/Denver:20191231T203000
DTEND;TZID=America/Denver:20200101T010000
DTSTAMP:20260420T041420
CREATED:20191231T203000Z
LAST-MODIFIED:20210101T053954Z
UID:341-1577824200-1577840400@quemandosalsa.com
SUMMARY:New Year's Eve Salsa Party
DESCRIPTION:https://thesourcehotel.com
URL:https://quemandosalsa.com/show/new-years-eve-salsa-party/
LOCATION:The Source Hotel\, 3330 Brighton Blvd\, Denver\, CO\, 80216\, United States
END:VEVENT
BEGIN:VEVENT
DTSTART;TZID=America/Denver:20191214T200000
DTEND;TZID=America/Denver:20191215T000000
DTSTAMP:20260420T041420
CREATED:20191214T200000Z
LAST-MODIFIED:20210101T053954Z
UID:353-1576353600-1576368000@quemandosalsa.com
SUMMARY:Quemando LIVE @ Oskar Blues in Lyons
DESCRIPTION:
URL:https://quemandosalsa.com/show/quemando-live-oskar-blues-in-lyons/
LOCATION:Oskar Blues\, 303 Main St\, Lyons\, CO\, 80504\, United States
END:VEVENT
BEGIN:VEVENT
DTSTART;TZID=America/Denver:20191207T213000
DTEND;TZID=America/Denver:20191208T010000
DTSTAMP:20260420T041420
CREATED:20191207T213000Z
LAST-MODIFIED:20210101T053954Z
UID:348-1575754200-1575766800@quemandosalsa.com
SUMMARY:Quemando LIVE @ La Rumba (Denver)
DESCRIPTION:
URL:https://quemandosalsa.com/show/quemando-live-la-rumba-denver/
LOCATION:La Rumba\, 99 W 9th Ave\, Denver\, CO\, 80204\, United States
END:VEVENT
BEGIN:VEVENT
DTSTART;TZID=America/Denver:20191130T200000
DTEND;TZID=America/Denver:20191201T000000
DTSTAMP:20260420T041420
CREATED:20191130T200000Z
LAST-MODIFIED:20210101T053954Z
UID:350-1575144000-1575158400@quemandosalsa.com
SUMMARY:Quemando LIVE in Fort Collins
DESCRIPTION:
URL:https://quemandosalsa.com/show/quemando-live-in-fort-collins/
LOCATION:Avogadro’s Number\, 605 S Mason Street\, Fort Collins\, CO\, 80524\, United States
END:VEVENT
BEGIN:VEVENT
DTSTART;TZID=America/Chicago:20191115T183000
DTEND;TZID=America/Chicago:20191115T213000
DTSTAMP:20260420T041420
CREATED:20191115T183000Z
LAST-MODIFIED:20210101T053954Z
UID:306-1573842600-1573853400@quemandosalsa.com
SUMMARY:Quemando at St. Julien
DESCRIPTION:Back at St. Julien for the 1st Fall show
URL:https://quemandosalsa.com/show/quemando-at-st-julien/
LOCATION:The St. Julien Hotel\, 920 Walnut St\, Boulder\, CO\, 80302\, United States
END:VEVENT
BEGIN:VEVENT
DTSTART;TZID=America/Denver:20191026T210000
DTEND;TZID=America/Denver:20191027T010000
DTSTAMP:20260420T041420
CREATED:20191026T210000Z
LAST-MODIFIED:20210101T053954Z
UID:361-1572123600-1572138000@quemandosalsa.com
SUMMARY:Quemando Live at La Rumba (Denver)
DESCRIPTION:Door open at 9pm\n21+\nFREE Dance Lesson at 9:30\n1st Live stet at 10pm
URL:https://quemandosalsa.com/show/quemando-live-at-la-rumba-denver/
LOCATION:La Rumba\, 99 W 9th Ave\, Denver\, CO\, 80204\, United States
END:VEVENT
BEGIN:VEVENT
DTSTART;TZID=America/Chicago:20190921T203000
DTEND;TZID=America/Chicago:20190921T235900
DTSTAMP:20260420T041420
CREATED:20190921T203000Z
LAST-MODIFIED:20210101T053954Z
UID:301-1569097800-1569110340@quemandosalsa.com
SUMMARY:Quemando at Oskar Blues (Lyons)
DESCRIPTION:The hottest salsa band in Colorado at the best hidden gem of a town in Colorado. \nSee you there !
URL:https://quemandosalsa.com/show/quemando-at-oskar-blues-lyons/
LOCATION:Oskar Blues\, 303 Main St\, Lyons\, CO\, 80504\, United States
CATEGORIES:Shows
ATTACH;FMTTYPE=image/jpeg:https://quemandosalsa.com/wp-content/uploads/2019/09/Qdo_OskarBlues_Lyons.jpg
END:VEVENT
END:VCALENDAR